BEGIN:VCALENDAR
VERSION:2.0
PRODID:-//STU
CALSCALE:GREGORIAN
METHOD:PUBLISH
X-WR-CALNAME:STU
X-ORIGINAL-URL:https://www.nusta.edu.ua/event/pryvitannya-v-o-rektora-valentyny-unynecz-hodakivskoyi-z-rizdvyanymy-ta-novorichnymy-svyatamy/
X-WR-CALDESC:Привітання в.о. ректора Валентини Унинець-Ходаківської з Різдвяними та Новорічними святами!
BEGIN:VEVENT
DTSTART:
DTEND:
SUMMARY:Привітання в.о. ректора Валентини Унинець-Ходаківської з Різдвяними та Новорічними святами!
DESCRIPTION:
LOCATION:
END:VEVENT
END:VCALENDAR
