BEGIN:VCALENDAR
VERSION:2.0
PRODID:-//STU
CALSCALE:GREGORIAN
METHOD:PUBLISH
X-WR-CALNAME:STU
X-ORIGINAL-URL:https://www.nusta.edu.ua/en/event/%d1%89%d0%be%d0%b4%d0%be-%d0%bf%d1%96%d0%b4%d0%b3%d0%be%d1%82%d0%be%d0%b2%d0%ba%d0%b8-%d0%bf%d1%80%d0%b5%d0%b7%d0%b5%d0%bd%d1%82%d0%b0%d1%86%d1%96%d0%b9%d0%bd%d0%be-%d1%96%d0%bc%d1%96%d0%b4%d0%b6/
X-WR-CALDESC:Щодо підготовки презентаційно-іміджевого ювілейного видання УДФСУ
BEGIN:VEVENT
DTSTART:
DTEND:
SUMMARY:Щодо підготовки презентаційно-іміджевого ювілейного видання УДФСУ
DESCRIPTION:
LOCATION:
END:VEVENT
END:VCALENDAR
