BEGIN:VCALENDAR
VERSION:2.0
PRODID:-//STU
CALSCALE:GREGORIAN
METHOD:PUBLISH
X-WR-CALNAME:STU
X-ORIGINAL-URL:https://www.nusta.edu.ua/en/event/%d0%be%d0%b3%d0%be%d0%bb%d0%be%d1%88%d0%b5%d0%bd%d0%bd%d1%8f-3/
X-WR-CALDESC:Оголошення
BEGIN:VEVENT
DTSTART:20180620T000000
DTEND:20180622T000000
SUMMARY:Оголошення
DESCRIPTION:
LOCATION:
END:VEVENT
END:VCALENDAR
