BEGIN:VCALENDAR
VERSION:2.0
PRODID:-//STU
CALSCALE:GREGORIAN
METHOD:PUBLISH
X-WR-CALNAME:STU
X-ORIGINAL-URL:https://www.nusta.edu.ua/en/event/%d1%96%d0%b3%d1%80%d0%b8-%d1%87%d0%b5%d0%bc%d0%bf%d1%96%d0%be%d0%bd%d0%b0%d1%82%d1%83-%d1%81%d0%b2%d1%96%d1%82%d1%83-%d0%b7-%d1%84%d1%83%d1%82%d0%b1%d0%be%d0%bb%d1%83-%d1%81%d0%b5%d1%80%d0%b5%d0%b4/
X-WR-CALDESC:Ігри Чемпіонату світу з футболу серед українських діаспорних команд
BEGIN:VEVENT
DTSTART:20180821T000000
DTEND:20180822T000000
SUMMARY:Ігри Чемпіонату світу з футболу серед українських діаспорних команд
DESCRIPTION:
LOCATION:
END:VEVENT
END:VCALENDAR
