BEGIN:VCALENDAR
VERSION:2.0
PRODID:-//STU
CALSCALE:GREGORIAN
METHOD:PUBLISH
X-WR-CALNAME:STU
X-ORIGINAL-URL:https://www.nusta.edu.ua/en/event/%d0%b2%d1%96%d0%b4%d0%b1%d1%83%d0%b4%d0%b5%d1%82%d1%8c%d1%81%d1%8f-%d0%bd%d0%b0%d0%b2%d1%87%d0%b0%d0%bb%d1%8c%d0%bd%d0%b8%d0%b9-%d1%82%d1%80%d0%b5%d0%bd%d1%96%d0%bd%d0%b3-%d0%b4%d0%bb%d1%8f-%d1%81/
X-WR-CALDESC:Відбудеться навчальний тренінг для студентів-консультантів Юридичних клінік в межах реалізації проекту &#8220;Інноваційні методики викладання в правопросвітній діяльності ЮК для школярів середньої ланки ЗОШ&#8221;
BEGIN:VEVENT
DTSTART:
DTEND:
SUMMARY:Відбудеться навчальний тренінг для студентів-консультантів Юридичних клінік в межах реалізації проекту &#8220;Інноваційні методики викладання в правопросвітній діяльності ЮК для школярів середньої ланки ЗОШ&#8221;
DESCRIPTION:
LOCATION:
END:VEVENT
END:VCALENDAR
