BEGIN:VCALENDAR
VERSION:2.0
PRODID:-//STU
CALSCALE:GREGORIAN
METHOD:PUBLISH
X-WR-CALNAME:STU
X-ORIGINAL-URL:https://www.nusta.edu.ua/en/event/15-%d1%82%d1%80%d0%b0%d0%b2%d0%bd%d1%8f-2020-%d1%80%d0%be%d0%ba%d1%83-%d0%bd%d0%b0%d1%83%d0%ba%d0%be%d0%b2%d0%be-%d0%b4%d0%be%d1%81%d0%bb%d1%96%d0%b4%d0%bd%d0%b8%d0%b9-%d1%96%d0%bd%d1%81%d1%82%d0%b8/
X-WR-CALDESC:15 травня 2020 року Науково-дослідний інститут фіскальної політики Університету державної фіскальної служби України проводить ІІІ Науково-практичний круглий стіл
BEGIN:VEVENT
DTSTART:
DTEND:
SUMMARY:15 травня 2020 року Науково-дослідний інститут фіскальної політики Університету державної фіскальної служби України проводить ІІІ Науково-практичний круглий стіл
DESCRIPTION:
LOCATION:
END:VEVENT
END:VCALENDAR
