BEGIN:VCALENDAR
VERSION:2.0
PRODID:-//STU
CALSCALE:GREGORIAN
METHOD:PUBLISH
X-WR-CALNAME:STU
X-ORIGINAL-URL:https://www.nusta.edu.ua/en/event/%d1%82%d1%80%d0%b5%d0%bd%d1%96%d0%bd%d0%b3-%d1%81%d1%82%d1%80%d0%b0%d1%85%d1%83%d0%b2%d0%b0%d0%bd%d0%bd%d1%8f-%d1%86%d0%b5-%d0%bd%d0%b0%d0%b4%d1%96%d0%b9%d0%bd%d1%96%d1%81%d1%82%d1%8c-%d1%82%d0%b0/
X-WR-CALDESC:Тренінг &#8220;Страхування це надійність та впевненість у завтрашньому дні&#8221;
BEGIN:VEVENT
DTSTART:
DTEND:
SUMMARY:Тренінг &#8220;Страхування це надійність та впевненість у завтрашньому дні&#8221;
DESCRIPTION:
LOCATION:
END:VEVENT
END:VCALENDAR
