BEGIN:VCALENDAR
VERSION:2.0
PRODID:-//STU
CALSCALE:GREGORIAN
METHOD:PUBLISH
X-WR-CALNAME:STU
X-ORIGINAL-URL:https://www.nusta.edu.ua/en/event/%d0%bf%d0%b0%d0%bc%d1%8f%d1%82%d1%96-%d0%b2%d0%b0%d0%bb%d0%b5%d1%80%d1%96%d1%8f-%d0%bd%d0%be%d0%b2%d0%b8%d1%86%d1%8c%d0%ba%d0%be%d0%b3%d0%be/
X-WR-CALDESC:Пам&#8217;яті Валерія Новицького
BEGIN:VEVENT
DTSTART:
DTEND:
SUMMARY:Пам&#8217;яті Валерія Новицького
DESCRIPTION:
LOCATION:
END:VEVENT
END:VCALENDAR
