BEGIN:VCALENDAR
VERSION:2.0
PRODID:-//STU
CALSCALE:GREGORIAN
METHOD:PUBLISH
X-WR-CALNAME:STU
X-ORIGINAL-URL:https://www.nusta.edu.ua/en/event/%d1%83%d0%b4%d1%84%d1%81%d1%83-%d0%be%d0%b3%d0%be%d0%bb%d0%be%d1%88%d1%83%d1%94-%d0%ba%d0%be%d0%bd%d0%ba%d1%83%d1%80%d1%81-%d0%bf%d1%80%d0%b8-%d0%b7%d0%b0%d0%bc%d1%96%d1%89%d0%b5%d0%bd%d0%bd%d1%96/
X-WR-CALDESC:УДФСУ оголошує конкурс про заміщення вакантних посад науково-педагогічних працівників
BEGIN:VEVENT
DTSTART:
DTEND:
SUMMARY:УДФСУ оголошує конкурс про заміщення вакантних посад науково-педагогічних працівників
DESCRIPTION:
LOCATION:
END:VEVENT
END:VCALENDAR
