BEGIN:VCALENDAR
VERSION:2.0
PRODID:-//STU
CALSCALE:GREGORIAN
METHOD:PUBLISH
X-WR-CALNAME:STU
X-ORIGINAL-URL:https://www.nusta.edu.ua/en/event/%d0%bc%d0%b8-%d0%b2%d1%96%d0%b4%d0%ba%d1%80%d0%b8%d0%b2%d0%b0%d1%94%d0%bc%d0%be-%d0%bd%d0%be%d0%b2%d0%b8%d0%b9-%d0%bd%d0%b0%d0%b1%d1%96%d1%80-%d0%b4%d0%be-%d0%bd%d0%b0%d1%88%d0%be%d1%97-%d0%bd%d0%bf/
X-WR-CALDESC:Ми відкриваємо новий набір до нашої НПЛ &#8220;Юридична клініка&#8221; ННІ права УДФСУ!
BEGIN:VEVENT
DTSTART:
DTEND:
SUMMARY:Ми відкриваємо новий набір до нашої НПЛ &#8220;Юридична клініка&#8221; ННІ права УДФСУ!
DESCRIPTION:
LOCATION:
END:VEVENT
END:VCALENDAR
