BEGIN:VCALENDAR
VERSION:2.0
PRODID:-//STU
CALSCALE:GREGORIAN
METHOD:PUBLISH
X-WR-CALNAME:STU
X-ORIGINAL-URL:https://www.nusta.edu.ua/en/event/%d1%81%d1%8c%d0%be%d0%b3%d0%be%d0%b4%d0%bd%d1%96-%d0%b2%d1%96%d0%b4%d0%b7%d0%bd%d0%b0%d1%87%d0%b0%d1%8e%d1%82%d1%8c-%d0%b4%d0%b5%d0%bd%d1%8c-%d0%b0%d0%bf%d0%be%d1%81%d1%82%d0%be%d0%bb%d0%b0-%d0%bc/
X-WR-CALDESC:Сьогодні відзначають День апостола Матвія &#8211; покровителя співробітників фіскальної служби
BEGIN:VEVENT
DTSTART:
DTEND:
SUMMARY:Сьогодні відзначають День апостола Матвія &#8211; покровителя співробітників фіскальної служби
DESCRIPTION:
LOCATION:
END:VEVENT
END:VCALENDAR
