BEGIN:VCALENDAR
VERSION:2.0
PRODID:-//STU
CALSCALE:GREGORIAN
METHOD:PUBLISH
X-WR-CALNAME:STU
X-ORIGINAL-URL:https://www.nusta.edu.ua/en/event/%d1%83%d0%b4%d1%84%d1%81%d1%83-%d0%bf%d1%80%d0%be%d0%b2%d0%b5%d0%b4%d0%b5-%d0%bf%d1%80%d0%b5%d0%b7%d0%b5%d0%bd%d1%82%d0%b0%d1%86%d1%96%d1%8e-%d0%b2%d0%b8%d1%88%d1%83-%d0%bf%d1%96%d0%b4-%d1%81%d1%82/
X-WR-CALDESC:УДФСУ проведе презентацію вишу під стінами Кабміну
BEGIN:VEVENT
DTSTART:
DTEND:
SUMMARY:УДФСУ проведе презентацію вишу під стінами Кабміну
DESCRIPTION:
LOCATION:
END:VEVENT
END:VCALENDAR
