BEGIN:VCALENDAR
VERSION:2.0
PRODID:-//STU
CALSCALE:GREGORIAN
METHOD:PUBLISH
X-WR-CALNAME:STU
X-ORIGINAL-URL:https://www.nusta.edu.ua/en/event/%d1%83%d0%b2%d0%b0%d0%b3%d0%b0-%d1%83%d0%bd%d1%96%d0%b2%d0%b5%d1%80%d1%81%d0%b8%d1%82%d0%b5%d1%82-%d0%bf%d0%b5%d1%80%d0%b5%d1%85%d0%be%d0%b4%d0%b8%d1%82%d1%8c-%d0%bd%d0%b0-%d0%b4%d0%b8%d1%81%d1%82/
X-WR-CALDESC:Увага! Університет переходить на дистанційний режим роботи
BEGIN:VEVENT
DTSTART:
DTEND:
SUMMARY:Увага! Університет переходить на дистанційний режим роботи
DESCRIPTION:
LOCATION:
END:VEVENT
END:VCALENDAR
