BEGIN:VCALENDAR
VERSION:2.0
PRODID:-//STU
CALSCALE:GREGORIAN
METHOD:PUBLISH
X-WR-CALNAME:STU
X-ORIGINAL-URL:https://www.nusta.edu.ua/en/event/%d0%b7%d0%b0%d0%bf%d1%80%d0%be%d1%88%d1%83%d1%94%d0%bc%d0%be-%d0%bd%d0%b0-%d0%be%d0%bd%d0%bb%d0%b0%d0%b9%d0%bd-%d0%b2%d1%96%d0%b4%d0%ba%d1%80%d0%b8%d1%82%d0%b5-%d0%bf%d0%b0%d0%bd%d0%b5%d0%bb%d1%8c/
X-WR-CALDESC:Запрошуємо на онлайн відкрите панельне засідання
BEGIN:VEVENT
DTSTART:
DTEND:
SUMMARY:Запрошуємо на онлайн відкрите панельне засідання
DESCRIPTION:
LOCATION:
END:VEVENT
END:VCALENDAR
