BEGIN:VCALENDAR
VERSION:2.0
PRODID:-//STU
CALSCALE:GREGORIAN
METHOD:PUBLISH
X-WR-CALNAME:STU
X-ORIGINAL-URL:https://www.nusta.edu.ua/en/event/24-%d0%bb%d1%8e%d1%82%d0%be%d0%b3%d0%be-%d1%8e%d1%80%d0%b8%d0%b4%d0%b8%d1%87%d0%bd%d0%b0-%d0%ba%d0%bb%d1%96%d0%bd%d1%96%d0%ba%d0%b0-%d1%83%d0%b4%d1%84%d1%81%d1%83-%d1%80%d0%be%d0%b7%d0%bf%d0%be%d1%87/
X-WR-CALDESC:Юридична клініка УДФСУ розпочне безкоштовні консультації в Ірпінській міськраді
BEGIN:VEVENT
DTSTART:
DTEND:
SUMMARY:Юридична клініка УДФСУ розпочне безкоштовні консультації в Ірпінській міськраді
DESCRIPTION:
LOCATION:
END:VEVENT
END:VCALENDAR
