BEGIN:VCALENDAR
VERSION:2.0
PRODID:-//STU
CALSCALE:GREGORIAN
METHOD:PUBLISH
X-WR-CALNAME:STU
X-ORIGINAL-URL:https://www.nusta.edu.ua/en/event/%d0%b2%d1%96%d0%b4%d0%b1%d1%83%d0%b4%d0%b5%d1%82%d1%8c%d1%81%d1%8f-%d0%b7%d1%83%d1%81%d1%82%d1%80%d1%96%d1%87-%d1%96%d0%b7-%d0%b5%d0%ba%d1%81%d0%bf%d0%b5%d1%80%d1%82%d0%be%d0%bc-%d0%b7-%d0%be%d1%81/
X-WR-CALDESC:Відбудеться зустріч із експертом з особистого розвитку Дмитром Гайдаром
BEGIN:VEVENT
DTSTART:
DTEND:
SUMMARY:Відбудеться зустріч із експертом з особистого розвитку Дмитром Гайдаром
DESCRIPTION:
LOCATION:
END:VEVENT
END:VCALENDAR
