BEGIN:VCALENDAR
VERSION:2.0
PRODID:-//STU
CALSCALE:GREGORIAN
METHOD:PUBLISH
X-WR-CALNAME:STU
X-ORIGINAL-URL:https://www.nusta.edu.ua/en/event/%d0%b2%d1%96%d0%b4%d0%b1%d1%83%d0%b4%d0%b5%d1%82%d1%8c%d1%81%d1%8f-%d0%b2%d1%96%d0%b4%d0%ba%d1%80%d0%b8%d1%82%d0%b0-%d0%bb%d0%b5%d0%ba%d1%86%d1%96%d1%8f-%d0%bf%d1%80%d0%be%d1%84%d0%b5%d1%81%d0%be/
X-WR-CALDESC:Відбудеться відкрита лекція професора кафедри психології та соціології Євдокимової Н.О
BEGIN:VEVENT
DTSTART:
DTEND:
SUMMARY:Відбудеться відкрита лекція професора кафедри психології та соціології Євдокимової Н.О
DESCRIPTION:
LOCATION:
END:VEVENT
END:VCALENDAR
