BEGIN:VCALENDAR
VERSION:2.0
PRODID:-//STU
CALSCALE:GREGORIAN
METHOD:PUBLISH
X-WR-CALNAME:STU
X-ORIGINAL-URL:https://www.nusta.edu.ua/en/event/karantyn-v-udfsu-prodovzheno-do-28-travnya/
X-WR-CALDESC:Карантин в УДФСУ продовжено до 28 травня
BEGIN:VEVENT
DTSTART:
DTEND:
SUMMARY:Карантин в УДФСУ продовжено до 28 травня
DESCRIPTION:
LOCATION:
END:VEVENT
END:VCALENDAR
