BEGIN:VCALENDAR
VERSION:2.0
PRODID:-//STU
CALSCALE:GREGORIAN
METHOD:PUBLISH
X-WR-CALNAME:STU
X-ORIGINAL-URL:https://www.nusta.edu.ua/en/event/%d0%b7%d0%b0%d0%bf%d1%80%d0%be%d1%88%d1%83%d1%94%d0%bc%d0%be-%d0%b2%d0%b8%d0%ba%d0%bb%d0%b0%d0%b4%d0%b0%d1%87%d1%96%d0%b2-%d1%83%d0%b4%d1%84%d1%81%d1%83-%d0%bd%d0%b0-%d0%ba%d0%be%d0%bd%d1%84%d0%b5/
X-WR-CALDESC:Запрошуємо викладачів УДФСУ на конференцію Startup Campus 2021
BEGIN:VEVENT
DTSTART:
DTEND:
SUMMARY:Запрошуємо викладачів УДФСУ на конференцію Startup Campus 2021
DESCRIPTION:
LOCATION:
END:VEVENT
END:VCALENDAR
