BEGIN:VCALENDAR
VERSION:2.0
PRODID:-//STU
CALSCALE:GREGORIAN
METHOD:PUBLISH
X-WR-CALNAME:STU
X-ORIGINAL-URL:https://www.nusta.edu.ua/en/event/%d0%b2%d1%96%d0%b4%d0%b1%d1%83%d0%b4%d0%b5%d1%82%d1%8c%d1%81%d1%8f-%d0%ba%d1%80%d1%83%d0%b3%d0%bb%d0%b8%d0%b9-%d1%81%d1%82%d1%96%d0%bb-%d1%80%d0%b5%d1%84%d0%be%d1%80%d0%bc%d1%83%d0%b2%d0%b0/
X-WR-CALDESC:Відбудеться круглий стіл «Реформування юридичної освіти в Україні: проблеми і виклики»
BEGIN:VEVENT
DTSTART:
DTEND:
SUMMARY:Відбудеться круглий стіл «Реформування юридичної освіти в Україні: проблеми і виклики»
DESCRIPTION:
LOCATION:
END:VEVENT
END:VCALENDAR
