BEGIN:VCALENDAR
VERSION:2.0
PRODID:-//STU
CALSCALE:GREGORIAN
METHOD:PUBLISH
X-WR-CALNAME:STU
X-ORIGINAL-URL:https://www.nusta.edu.ua/en/event/dtek-energy-zaproshuye-vypusknykiv-ta-studentiv-ostannih-kursiv-na-programu-stazhuvannya/
X-WR-CALDESC:DTEK Energy запрошує випускників та студентів останніх курсів на програму стажування
BEGIN:VEVENT
DTSTART:
DTEND:
SUMMARY:DTEK Energy запрошує випускників та студентів останніх курсів на програму стажування
DESCRIPTION:
LOCATION:
END:VEVENT
END:VCALENDAR
