BEGIN:VCALENDAR
VERSION:2.0
PRODID:-//STU
CALSCALE:GREGORIAN
METHOD:PUBLISH
X-WR-CALNAME:STU
X-ORIGINAL-URL:https://www.nusta.edu.ua/en/event/podatkovyj-universytet-rozpochynaye-poperednij-zapys-na-pidgotovchi-kursy-do-zno-2022/
X-WR-CALDESC:Податковий університет розпочинає попередній запис на підготовчі курси до ЗНО 2022
BEGIN:VEVENT
DTSTART:
DTEND:
SUMMARY:Податковий університет розпочинає попередній запис на підготовчі курси до ЗНО 2022
DESCRIPTION:
LOCATION:
END:VEVENT
END:VCALENDAR
