BEGIN:VCALENDAR
VERSION:2.0
PRODID:-//STU
CALSCALE:GREGORIAN
METHOD:PUBLISH
X-WR-CALNAME:STU
X-ORIGINAL-URL:https://www.nusta.edu.ua/en/event/1-zhovtnya-v-ukrayini-vidznachayut-den-veterana/
X-WR-CALDESC:1 жовтня в Україні відзначають День ветерана
BEGIN:VEVENT
DTSTART:
DTEND:
SUMMARY:1 жовтня в Україні відзначають День ветерана
DESCRIPTION:
LOCATION:
END:VEVENT
END:VCALENDAR
