BEGIN:VCALENDAR
VERSION:2.0
PRODID:-//STU
CALSCALE:GREGORIAN
METHOD:PUBLISH
X-WR-CALNAME:STU
X-ORIGINAL-URL:https://www.nusta.edu.ua/en/event/idkryto-reyestracziyu-na-uchast-u-vseukrayinskij-konkursnij-programi-krashhyj-student-ukrayiny/
X-WR-CALDESC:Відкрито реєстрацію на участь у Всеукраїнській конкурсній програмі «Кращий студент України»
BEGIN:VEVENT
DTSTART:
DTEND:
SUMMARY:Відкрито реєстрацію на участь у Всеукраїнській конкурсній програмі «Кращий студент України»
DESCRIPTION:
LOCATION:
END:VEVENT
END:VCALENDAR
