BEGIN:VCALENDAR
VERSION:2.0
PRODID:-//STU
CALSCALE:GREGORIAN
METHOD:PUBLISH
X-WR-CALNAME:STU
X-ORIGINAL-URL:https://www.nusta.edu.ua/en/event/19-lystopada-vidbudetsya-den-vidkrytyh-dverej/
X-WR-CALDESC:19 листопада в Податковому університеті відбудеться День відкритих дверей
BEGIN:VEVENT
DTSTART:
DTEND:
SUMMARY:19 листопада в Податковому університеті відбудеться День відкритих дверей
DESCRIPTION:
LOCATION:
END:VEVENT
END:VCALENDAR
