BEGIN:VCALENDAR
VERSION:2.0
PRODID:-//STU
CALSCALE:GREGORIAN
METHOD:PUBLISH
X-WR-CALNAME:STU
X-ORIGINAL-URL:https://www.nusta.edu.ua/en/event/u-podatkovomu-universyteti-rozpochavsya-opalyuvalnyj-sezon/
X-WR-CALDESC:У Податковому університеті розпочався опалювальний сезон
BEGIN:VEVENT
DTSTART:
DTEND:
SUMMARY:У Податковому університеті розпочався опалювальний сезон
DESCRIPTION:
LOCATION:
END:VEVENT
END:VCALENDAR
