BEGIN:VCALENDAR
VERSION:2.0
PRODID:-//STU
CALSCALE:GREGORIAN
METHOD:PUBLISH
X-WR-CALNAME:STU
X-ORIGINAL-URL:https://www.nusta.edu.ua/en/event/zaproshuyemo-studentiv-podatkovogo-universytetu-vzyaty-uchast-v-konkursi-proyektu-scholarship-v-ukrayini-ta-vygraty-grant/
X-WR-CALDESC:Запрошуємо студентів Податкового університету взяти участь в конкурсі проєкту «Scholarship в Україні» та виграти грант
BEGIN:VEVENT
DTSTART:
DTEND:
SUMMARY:Запрошуємо студентів Податкового університету взяти участь в конкурсі проєкту «Scholarship в Україні» та виграти грант
DESCRIPTION:
LOCATION:
END:VEVENT
END:VCALENDAR
