BEGIN:VCALENDAR
VERSION:2.0
PRODID:-//STU
CALSCALE:GREGORIAN
METHOD:PUBLISH
X-WR-CALNAME:STU
X-ORIGINAL-URL:https://www.nusta.edu.ua/en/event/vakczynacziya-vid-covid-19-v-podatkovomu-universyteti/
X-WR-CALDESC:Вакцинація від COVID-19 в Податковому університеті
BEGIN:VEVENT
DTSTART:
DTEND:
SUMMARY:Вакцинація від COVID-19 в Податковому університеті
DESCRIPTION:
LOCATION:
END:VEVENT
END:VCALENDAR
