BEGIN:VCALENDAR
VERSION:2.0
PRODID:-//STU
CALSCALE:GREGORIAN
METHOD:PUBLISH
X-WR-CALNAME:STU
X-ORIGINAL-URL:https://www.nusta.edu.ua/en/event/u-podatkovomu-universyteti-tryvaye-konkurs-veb-storinok-ta-veb-sajtiv-na-temu-mij-universytet-gortayuchy-storinky-istoriyi/
X-WR-CALDESC:У Податковому університеті триває конкурс веб-сторінок та веб-сайтів на тему: «Мій Університет. Гортаючи сторінки історії»
BEGIN:VEVENT
DTSTART:
DTEND:
SUMMARY:У Податковому університеті триває конкурс веб-сторінок та веб-сайтів на тему: «Мій Університет. Гортаючи сторінки історії»
DESCRIPTION:
LOCATION:
END:VEVENT
END:VCALENDAR
