BEGIN:VCALENDAR
VERSION:2.0
PRODID:-//STU
CALSCALE:GREGORIAN
METHOD:PUBLISH
X-WR-CALNAME:STU
X-ORIGINAL-URL:https://www.nusta.edu.ua/en/event/podatkovyj-universytet-zaproshuye-na-zahid-marafon-karyery/
X-WR-CALDESC:Податковий університет запрошує на захід «Марафон кар’єри»
BEGIN:VEVENT
DTSTART:
DTEND:
SUMMARY:Податковий університет запрошує на захід «Марафон кар’єри»
DESCRIPTION:
LOCATION:
END:VEVENT
END:VCALENDAR
