BEGIN:VCALENDAR
VERSION:2.0
PRODID:-//STU
CALSCALE:GREGORIAN
METHOD:PUBLISH
X-WR-CALNAME:STU
X-ORIGINAL-URL:https://www.nusta.edu.ua/en/event/minfin-ogoloshuye-konkurs-na-zamishhennya-posady-rektora-podatkovogo-universytetu/
X-WR-CALDESC:Мінфін оголошує конкурс на заміщення посади ректора Податкового університету
BEGIN:VEVENT
DTSTART:20211224T000000
DTEND:20211224T000000
SUMMARY:Мінфін оголошує конкурс на заміщення посади ректора Податкового університету
DESCRIPTION:
LOCATION:
END:VEVENT
END:VCALENDAR
