BEGIN:VCALENDAR
VERSION:2.0
PRODID:-//STU
CALSCALE:GREGORIAN
METHOD:PUBLISH
X-WR-CALNAME:STU
X-ORIGINAL-URL:https://www.nusta.edu.ua/en/event/federacziya-kibersportu-ukrayiny-zaproshuye-studentiv-do-uchasti-u-kibersportyvnyh-zahodah-i-zmagannyah/
X-WR-CALDESC:Федерація кіберспорту України запрошує студентів до участі у кіберспортивних заходах і змаганнях
BEGIN:VEVENT
DTSTART:
DTEND:
SUMMARY:Федерація кіберспорту України запрошує студентів до участі у кіберспортивних заходах і змаганнях
DESCRIPTION:
LOCATION:
END:VEVENT
END:VCALENDAR
