BEGIN:VCALENDAR
VERSION:2.0
PRODID:-//STU
CALSCALE:GREGORIAN
METHOD:PUBLISH
X-WR-CALNAME:STU
X-ORIGINAL-URL:https://www.nusta.edu.ua/en/event/pryvitannya-v-o-rektora-valentyny-unynecz-hodakivskoyi-z-novym-rokom-ta-rizdvom-hrystovym-2/
X-WR-CALDESC:Привітання в.о. ректора Валентини Унинець-Ходаківської з Новим роком та Різдвом Христовим
BEGIN:VEVENT
DTSTART:
DTEND:
SUMMARY:Привітання в.о. ректора Валентини Унинець-Ходаківської з Новим роком та Різдвом Христовим
DESCRIPTION:
LOCATION:
END:VEVENT
END:VCALENDAR
