BEGIN:VCALENDAR
VERSION:2.0
PRODID:-//STU
CALSCALE:GREGORIAN
METHOD:PUBLISH
X-WR-CALNAME:STU
X-ORIGINAL-URL:https://www.nusta.edu.ua/en/event/v%d1%8bdbudetsya-drugyj-tur-vseukrayinskogo-konkursu-studentskyh-naukovyh-robit-za-napryamom-finansovi-rozsliduvannya/
X-WR-CALDESC:Відбудеться другий тур Всеукраїнського конкурсу студентських наукових робіт за напрямом «Фінансові розслідування»
BEGIN:VEVENT
DTSTART:
DTEND:
SUMMARY:Відбудеться другий тур Всеукраїнського конкурсу студентських наукових робіт за напрямом «Фінансові розслідування»
DESCRIPTION:
LOCATION:
END:VEVENT
END:VCALENDAR
