BEGIN:VCALENDAR
VERSION:2.0
PRODID:-//STU
CALSCALE:GREGORIAN
METHOD:PUBLISH
X-WR-CALNAME:STU
X-ORIGINAL-URL:https://www.nusta.edu.ua/en/event/pryvitannya-z-yuvileyem-doktora-himichnyh-nauk-pershogo-profesora-nashogo-navchalnogo-zakladu-yevgena-zhelibo/
X-WR-CALDESC:Привітання з ювілеєм доктора хімічних наук, першого професора нашого навчального закладу Євгена Желібо
BEGIN:VEVENT
DTSTART:
DTEND:
SUMMARY:Привітання з ювілеєм доктора хімічних наук, першого професора нашого навчального закладу Євгена Желібо
DESCRIPTION:
LOCATION:
END:VEVENT
END:VCALENDAR
