BEGIN:VCALENDAR
VERSION:2.0
PRODID:-//STU
CALSCALE:GREGORIAN
METHOD:PUBLISH
X-WR-CALNAME:STU
X-ORIGINAL-URL:https://www.nusta.edu.ua/en/event/uvaga-zmina-rekvizytiv-pro-oplatu/
X-WR-CALDESC:Увага! Зміна реквізитів про оплату
BEGIN:VEVENT
DTSTART:
DTEND:
SUMMARY:Увага! Зміна реквізитів про оплату
DESCRIPTION:
LOCATION:
END:VEVENT
END:VCALENDAR
