BEGIN:VCALENDAR
VERSION:2.0
PRODID:-//STU
CALSCALE:GREGORIAN
METHOD:PUBLISH
X-WR-CALNAME:STU
X-ORIGINAL-URL:https://www.nusta.edu.ua/en/event/podatkovyj-zaproshuye-na-den-vidkrytyh-dverej/
X-WR-CALDESC:Податковий запрошує на День відкритих дверей!
BEGIN:VEVENT
DTSTART:
DTEND:
SUMMARY:Податковий запрошує на День відкритих дверей!
DESCRIPTION:
LOCATION:
END:VEVENT
END:VCALENDAR
