BEGIN:VCALENDAR
VERSION:2.0
PRODID:-//STU
CALSCALE:GREGORIAN
METHOD:PUBLISH
X-WR-CALNAME:STU
X-ORIGINAL-URL:https://www.nusta.edu.ua/en/event/vidbudetsya-onlajn-zahid-it-girls-talks-newyearnewcareer/
X-WR-CALDESC:Відбудеться онлайн-захід IT Girls Talks: #NewYearNewCareer
BEGIN:VEVENT
DTSTART:
DTEND:
SUMMARY:Відбудеться онлайн-захід IT Girls Talks: #NewYearNewCareer
DESCRIPTION:
LOCATION:
END:VEVENT
END:VCALENDAR
