BEGIN:VCALENDAR
VERSION:2.0
PRODID:-//STU
CALSCALE:GREGORIAN
METHOD:PUBLISH
X-WR-CALNAME:STU
X-ORIGINAL-URL:https://www.nusta.edu.ua/en/event/pryvitannya-v-o-rektora-valentyny-unynecz-hodakivskoyi-zi-starym-novym-rokom/
X-WR-CALDESC:Привітання в.о. ректора Валентини Унинець-Ходаківської зі Святвечором!
BEGIN:VEVENT
DTSTART:
DTEND:
SUMMARY:Привітання в.о. ректора Валентини Унинець-Ходаківської зі Святвечором!
DESCRIPTION:
LOCATION:
END:VEVENT
END:VCALENDAR
