BEGIN:VCALENDAR
VERSION:2.0
PRODID:-//STU
CALSCALE:GREGORIAN
METHOD:PUBLISH
X-WR-CALNAME:STU
X-ORIGINAL-URL:https://www.nusta.edu.ua/en/event/zaproshuyemo-naukovcziv-podatkovogo-universytetu-na-seriyu-vebinariv-clarivate-naukovczyam/
X-WR-CALDESC:Запрошуємо науковців Податкового університету на серію вебінарів «Clarivate науковцям»
BEGIN:VEVENT
DTSTART:
DTEND:
SUMMARY:Запрошуємо науковців Податкового університету на серію вебінарів «Clarivate науковцям»
DESCRIPTION:
LOCATION:
END:VEVENT
END:VCALENDAR
