BEGIN:VCALENDAR
VERSION:2.0
PRODID:-//STU
CALSCALE:GREGORIAN
METHOD:PUBLISH
X-WR-CALNAME:STU
X-ORIGINAL-URL:https://www.nusta.edu.ua/en/event/60452/
X-WR-CALDESC:Увага! Інформація про організацію освітнього процесу у ІІ семестрі 2021/2022 навчального року
BEGIN:VEVENT
DTSTART:
DTEND:
SUMMARY:Увага! Інформація про організацію освітнього процесу у ІІ семестрі 2021/2022 навчального року
DESCRIPTION:
LOCATION:
END:VEVENT
END:VCALENDAR
