BEGIN:VCALENDAR
VERSION:2.0
PRODID:-//STU
CALSCALE:GREGORIAN
METHOD:PUBLISH
X-WR-CALNAME:STU
X-ORIGINAL-URL:https://www.nusta.edu.ua/en/event/pryvitannya-z-dnem-narodzhenya-profesora-derzhavnogo-podatkovogo-universytetu-anatoliya-guleya/
X-WR-CALDESC:Привітання з Днем народженя професора Державного податкового університету Анатолія Гулея!
BEGIN:VEVENT
DTSTART:
DTEND:
SUMMARY:Привітання з Днем народженя професора Державного податкового університету Анатолія Гулея!
DESCRIPTION:
LOCATION:
END:VEVENT
END:VCALENDAR
