BEGIN:VCALENDAR
VERSION:2.0
PRODID:-//STU
CALSCALE:GREGORIAN
METHOD:PUBLISH
X-WR-CALNAME:STU
X-ORIGINAL-URL:https://www.nusta.edu.ua/en/event/vidbudetsya-tematychnyj-tvorchyj-ranok-do-140-richchya-z-dnya-narodzhennya-ivana-ogiyenka/
X-WR-CALDESC:Відбудеться тематичний творчий ранок до 140-річчя з дня народження Івана Огієнка
BEGIN:VEVENT
DTSTART:
DTEND:
SUMMARY:Відбудеться тематичний творчий ранок до 140-річчя з дня народження Івана Огієнка
DESCRIPTION:
LOCATION:
END:VEVENT
END:VCALENDAR
