BEGIN:VCALENDAR
VERSION:2.0
PRODID:-//STU
CALSCALE:GREGORIAN
METHOD:PUBLISH
X-WR-CALNAME:STU
X-ORIGINAL-URL:https://www.nusta.edu.ua/en/event/sogodni-svij-den-narodzhennya-svyatkuye-volodymyr-leonidovych-yakubivskyj-nachalnyk-upravlinnya-finansovo-ekonomichnogo-planuvannya-ta-analizu-ministerstva-finansiv-ukrayiny-golova-komisiyi-z-reorga/
X-WR-CALDESC:Сьогодні свій День народження святкує Володимир Леонідович Якубівський, начальник Управління фінансово-економічного планування та аналізу Міністерства фінансів України, голова Комісії з реорганізації УДФСУ!!
BEGIN:VEVENT
DTSTART:
DTEND:
SUMMARY:Сьогодні свій День народження святкує Володимир Леонідович Якубівський, начальник Управління фінансово-економічного планування та аналізу Міністерства фінансів України, голова Комісії з реорганізації УДФСУ!!
DESCRIPTION:
LOCATION:
END:VEVENT
END:VCALENDAR
