BEGIN:VCALENDAR
VERSION:2.0
PRODID:-//STU
CALSCALE:GREGORIAN
METHOD:PUBLISH
X-WR-CALNAME:STU
X-ORIGINAL-URL:https://www.nusta.edu.ua/en/event/zaproshuyemo-vas-vzyaty-uchast-u-roboti-v-mizhnarodnoyi-naukovo-praktychnoyi-konferencziyi/
X-WR-CALDESC:Запрошуємо вас взяти участь у роботі V міжнародної науково-практичної конференції
BEGIN:VEVENT
DTSTART:
DTEND:
SUMMARY:Запрошуємо вас взяти участь у роботі V міжнародної науково-практичної конференції
DESCRIPTION:
LOCATION:
END:VEVENT
END:VCALENDAR
