BEGIN:VCALENDAR
VERSION:2.0
PRODID:-//STU
CALSCALE:GREGORIAN
METHOD:PUBLISH
X-WR-CALNAME:STU
X-ORIGINAL-URL:https://www.nusta.edu.ua/en/event/pryvitannya-ministra-finansiv-ukrayiny-sergiya-marchenka-z-dnem-narodzhennya/
X-WR-CALDESC:Привітання Міністра фінансів України Сергія Марченка з Днем народження!
BEGIN:VEVENT
DTSTART:
DTEND:
SUMMARY:Привітання Міністра фінансів України Сергія Марченка з Днем народження!
DESCRIPTION:
LOCATION:
END:VEVENT
END:VCALENDAR
