BEGIN:VCALENDAR
VERSION:2.0
PRODID:-//STU
CALSCALE:GREGORIAN
METHOD:PUBLISH
X-WR-CALNAME:STU
X-ORIGINAL-URL:https://www.nusta.edu.ua/en/event/pryvitannya-z-dnem-praczivnyka-kontrolno-revizijnoyi-sluzhby-ukrayiny/
X-WR-CALDESC:Привітання з Днем працівника контрольно-ревізійної служби України!
BEGIN:VEVENT
DTSTART:
DTEND:
SUMMARY:Привітання з Днем працівника контрольно-ревізійної служби України!
DESCRIPTION:
LOCATION:
END:VEVENT
END:VCALENDAR
