BEGIN:VCALENDAR
VERSION:2.0
PRODID:-//STU
CALSCALE:GREGORIAN
METHOD:PUBLISH
X-WR-CALNAME:STU
X-ORIGINAL-URL:https://www.nusta.edu.ua/en/event/mizhnarodnyj-den-pamyati-zhertv-golokostu/
X-WR-CALDESC:Міжнародний день пам&#8217;яті жертв Голокосту
BEGIN:VEVENT
DTSTART:
DTEND:
SUMMARY:Міжнародний день пам&#8217;яті жертв Голокосту
DESCRIPTION:
LOCATION:
END:VEVENT
END:VCALENDAR
