BEGIN:VCALENDAR
VERSION:2.0
PRODID:-//STU
CALSCALE:GREGORIAN
METHOD:PUBLISH
X-WR-CALNAME:STU
X-ORIGINAL-URL:https://www.nusta.edu.ua/en/event/podatkovyj-universytet-perehodyt-na-dystanczijnu-formu-navchannya/
X-WR-CALDESC:Податковий університет переходить на дистанційну форму навчання
BEGIN:VEVENT
DTSTART:
DTEND:
SUMMARY:Податковий університет переходить на дистанційну форму навчання
DESCRIPTION:
LOCATION:
END:VEVENT
END:VCALENDAR
