BEGIN:VCALENDAR
VERSION:2.0
PRODID:-//STU
CALSCALE:GREGORIAN
METHOD:PUBLISH
X-WR-CALNAME:STU
X-ORIGINAL-URL:https://www.nusta.edu.ua/en/event/pamyati-geroyiv-prysvyachuyetsya/
X-WR-CALDESC:Пам’яті героїв присвячується
BEGIN:VEVENT
DTSTART:
DTEND:
SUMMARY:Пам’яті героїв присвячується
DESCRIPTION:
LOCATION:
END:VEVENT
END:VCALENDAR
